Workbook

Sheet 事務局用
B2: 取扱注意 地域相談支援給付の支給更新個別審査票
B4: 個人番号 | E4: 氏名 | G4: 障害種別 | H4: 生年月日 | I4: 年齢 | J4: 性別 | K4: サービス種類 | L4: 現行サービス利用期間 | M4: 更新期間
G5: 精神 | K5: 地域移行支援
B7: １ 本人の希望
B10: ２ 支援目標
B11: 長期目標
B12: 短期目標
B13: ＊「長期目標」は概ね１年間、「短期目標」は概ね３ヵ月間とする。
B15: ３ 目標の達成状況、今後の支援内容
B16: 具体的な目標項目 | F16: 達成状況 | G16: 評価 | L16: 今後の支援内容（予定）
B17: 1
B18: 2
B19: 3
B20: ＊達成状況は「３＝できる」「２＝おおむねできる」「１＝できない」の３段階で評価
B22: ４ サービス提供事業者の意見

Sheet 補足資料
B2: 取扱注意 地域相談支援給付の支給更新個別審査票（補足資料）
B4: 個人番号 | E4: 氏名 | G4: 障害種別 | H4: 生年月日 | I4: 年齢 | J4: 性別 | K4: サービス種類 | L4: 現行サービス利用期間 | M4: 更新期間
B5: =事務局用!B5 -> 0 | E5: =事務局用!E5 -> 0 | G5: =事務局用!G5 -> 精神 | H5: =事務局用!H5 -> 0 | I5: =事務局用!I5 -> 0 | J5: =事務局用!J5 -> 0 | K5: =事務局用!K5 -> 地域移行支援 | L5: =事務局用!L5 -> 0 | M5: =事務局用!M5 -> 0
B8: １ 認定を受けている障害等級等
B9: 身体障害者等級 | F9: 身体障害の種類
B10: 愛の手帳
B11: 精神障害者保健福祉手帳等級
B13: ２ 病名・症状等について
B14: 病名等 | F14: 発症時期 | H14: 症状等 | L14: 入院歴
B15: 1
B16: 2
B17: 2
B19: ３ その他、特記事項
B20: ○本人の希望、状態、全体像等について

Sheet 審査会用
B2: 取扱注意 地域相談支援給付の支給更新個別審査票
B4: 障害種別 | E4: 年齢 | F4: 性別 | G4: サービス種類 | I4: 現行サービス利用期間 | L4: 更新期間
B5: =事務局用!G5 -> 精神 | E5: =事務局用!I5 -> 0 | F5: =事務局用!J5 -> 0 | G5: =事務局用!K5 -> 地域移行支援 | I5: =事務局用!L5 -> 0 | L5: =事務局用!M5 -> 0
B7: １ 本人の希望
B8: =事務局用!B8 -> 0
B10: ２ 支援目標
B11: 長期目標 | E11: =事務局用!E11 -> 0
B12: 短期目標 | E12: =事務局用!E12 -> 0
B13: ＊「長期目標」は概ね１年間、「短期目標」は概ね３ヵ月間とする。
B15: ３ 目標の達成状況、今後の支援内容
B16: 具体的な目標項目 | F16: 達成状況 | G16: 評価 | L16: 今後の支援内容（予定）
B17: 1 | C17: =事務局用!C17 -> 0 | F17: =事務局用!F17 -> 0 | G17: =事務局用!G17 -> 0 | L17: =事務局用!L17 -> 0
B18: 2 | C18: =事務局用!C18 -> 0 | F18: =事務局用!F18 -> 0 | G18: =事務局用!G18 -> 0 | L18: =事務局用!L18 -> 0
B19: 3 | C19: =事務局用!C19 -> 0 | F19: =事務局用!F19 -> 0 | G19: =事務局用!G19 -> 0 | L19: =事務局用!L19 -> 0
B20: ＊達成状況は「３＝できる」「２＝おおむねできる」「１＝できない」の３段階で評価
B22: ４ サービス提供事業者の意見
B23: =事務局用!B23 -> 0
B25: ５ 障害認定審査会の意見

Sheet 議事録用
B2: 取扱注意 地域相談支援給付の支給更新個別審査票
B4: 個人番号 | E4: 氏名 | G4: 障害種別 | H4: 生年月日 | I4: 年齢 | J4: 性別 | K4: サービス種類 | L4: 現行サービス利用期間 | M4: 更新期間
B5: =事務局用!B5 -> 0 | E5: =事務局用!E5 -> 0 | G5: =事務局用!G5 -> 精神 | H5: =事務局用!H5 -> 0 | I5: =事務局用!I5 -> 0 | J5: =事務局用!J5 -> 0 | K5: =事務局用!K5 -> 地域移行支援 | L5: =事務局用!L5 -> 0 | M5: =事務局用!M5 -> 0
B7: １ 本人の希望
B8: =事務局用!B8 -> 0
B10: ２ 支援目標
B11: 長期目標 | E11: =事務局用!E11 -> 0
B12: 短期目標 | E12: =事務局用!E12 -> 0
B13: ＊「長期目標」は概ね１年間、「短期目標」は概ね３ヵ月間とする。
B15: ３ 目標の達成状況、今後の支援内容
B16: 具体的な目標項目 | F16: 達成状況 | G16: 評価 | L16: 今後の支援内容（予定）
B17: 1 | C17: =事務局用!C17 -> 0 | F17: =事務局用!F17 -> 0 | G17: =事務局用!G17 -> 0 | L17: =事務局用!L17 -> 0
B18: 2 | C18: =事務局用!C18 -> 0 | F18: =事務局用!F18 -> 0 | G18: =事務局用!G18 -> 0 | L18: =事務局用!L18 -> 0
B19: 3 | C19: =事務局用!C19 -> 0 | F19: =事務局用!F19 -> 0 | G19: =事務局用!G19 -> 0 | L19: =事務局用!L19 -> 0
B20: ＊達成状況は「３＝できる」「２＝おおむねできる」「１＝できない」の３段階で評価
B22: ４ サービス提供事業者の意見
B23: =審査会用!B23 -> 0
B26: ５ 障害認定審査会の意見
B27: 更新を妥当と認める。
