Workbook

Sheet 事務局用
B2: 取扱注意 訓練等給付の利用更新個別審査票
B4: 個人番号 | E4: 氏名 | G4: 障害種別 | H4: 生年月日 | I4: 年齢 | J4: 性別 | K4: サービス種類 | L4: 現行サービス利用期間 | M4: 更新期間
G5: 精神
B8: １ 訓練(支援)目標
B9: 長期目標
B10: 短期目標
B11: ＊「長期目標」は概ね１年間、「短期目標」は概ね３ヵ月間とする。
B13: ２ 目標の達成状況、今後の支援内容
B14: 具体的な目標(訓練)項目 | F14: 達成状況 | G14: 評価 | L14: 今後の支援内容（予定）
B15: 1
B16: 2
B17: 3
B18: ＊達成状況は「３＝できる」「２＝おおむねできる」「１＝できない」の３段階で評価
B20: ３ サービス提供事業者の意見

Sheet 審査会用
B2: 取扱注意 訓練等給付の利用更新個別審査票
B4: 障害種別 | E4: 年齢 | F4: 性別 | G4: サービス種類 | I4: 現行サービス利用期間 | L4: 更新期間
B5: =事務局用!G5 -> 精神 | E5: =事務局用!I5 -> 0 | F5: =事務局用!J5 -> 0 | G5: =事務局用!K5 -> 0 | I5: =事務局用!L5 -> 0 | L5: =事務局用!M5 -> 0
B8: １ 訓練目標
B9: 長期目標 | E9: =事務局用!E9 -> 0
B10: 短期目標 | E10: =事務局用!E10 -> 0
B11: ＊「長期目標」は概ね１年間、「短期目標」は概ね３ヵ月間とする。
B13: ２ 目標の達成状況、今後の支援内容
B14: 具体的な目標(訓練)項目 | F14: 達成状況 | G14: 評価 | L14: 今後の支援内容（予定）
B15: 1 | C15: =事務局用!C15 -> 0 | F15: =事務局用!F15 | G15: =事務局用!G15 -> 0 | L15: =事務局用!L15 -> 0
B16: 2 | C16: =事務局用!C16 -> 0 | F16: =事務局用!F16 | G16: =事務局用!G16 -> 0 | L16: =事務局用!L16 -> 0
B17: 3 | C17: =事務局用!C17 -> 0 | F17: =事務局用!F17 | G17: =事務局用!G17 -> 0 | L17: =事務局用!L17 -> 0
B18: ＊達成状況は「３＝できる」「２＝おおむねできる」「１＝できない」の３段階で評価
B20: ３ サービス提供事業者の意見
B21: =事務局用!B21 -> 0
B24: ４ 障害認定審査会の意見

Sheet 議事録用
B2: 取扱注意 訓練等給付の利用更新個別審査票
B4: 個人番号 | E4: 氏名 | G4: 障害種別 | H4: 生年月日 | I4: 年齢 | J4: 性別 | K4: サービス種類 | L4: 現行サービス利用期間 | M4: 更新期間
B5: =事務局用!B5 -> 0 | E5: =事務局用!E5 -> 0 | G5: =事務局用!G5 -> 精神 | H5: =事務局用!H5 -> 0 | I5: =事務局用!I5 -> 0 | J5: =事務局用!J5 -> 0 | K5: =事務局用!K5 -> 0 | L5: =事務局用!L5 -> 0 | M5: =事務局用!M5 -> 0
B8: １ 訓練目標
B9: 長期目標 | E9: =事務局用!E9 -> 0
B10: 短期目標 | E10: =事務局用!E10 -> 0
B11: ＊「長期目標」は概ね１年間、「短期目標」は概ね３ヵ月間とする。
B13: ２ 目標の達成状況、今後の支援内容
B14: 具体的な目標(訓練)項目 | F14: 達成状況 | G14: 評価 | L14: 今後の支援内容（予定）
B15: 1 | C15: =事務局用!C15 -> 0 | F15: =事務局用!F15 | G15: =事務局用!G15 -> 0 | L15: =事務局用!L15 -> 0
B16: 2 | C16: =事務局用!C16 -> 0 | F16: =事務局用!F16 | G16: =事務局用!G16 -> 0 | L16: =事務局用!L16 -> 0
B17: 3 | C17: =事務局用!C17 -> 0 | F17: =事務局用!F17 | G17: =事務局用!G17 -> 0 | L17: =事務局用!L17 -> 0
B18: ＊達成状況は「３＝できる」「２＝おおむねできる」「１＝できない」の３段階で評価
B20: ３ サービス提供事業者の意見
B21: =事務局用!$B$21 -> 0
B24: ４ 障害認定審査会の意見

Sheet 使用方法
A1: 「事務局用」に入力すると、「審査会用」および「議事録用」に内容が反映されます。
A3: 「審査会用」および「議事録用」のシートは、ロックされています。書式を変更するときは「書式」の「シートの保護」で、解除できます。

Sheet 補足資料（審査会資料）
B2: 取扱注意 訓練等給付の利用更新個別審査票（補足資料）
B4: ※ | C4: 更新に係る提出書類確認 | G4: ○ | H4: 個別支援計画 | J4: ○ | K4: 利用期間更新に係る個別支援計画 | N4: その他資料
B6: １ 認定を受けている障害等級等 | G6: ２支援の実績（通所状況） | K6: （支援内容） | M6: (就労移行利用状況)
B7: 身体障害者等級 | G7: □ | H7: 週１日以下 | J7: □ | K7: 企業見学及び訪問 | M7: □ | N7: 初回 | S7: ■
B8: 種類 | G8: □ | H8: 週１日～２日 | J8: □ | K8: 企業実習・委託訓練等 | M8: □ | N8: ２回目[離職･その他] | S8: □
B9: 愛の手帳 | G9: □ | H9: 週３日～４日 | J9: □ | K9: 面接会または面接 | M9: □ | N9: ３回目[離職･その他]
B10: 精神障害者保健福祉手帳等級 | G10: □ | H10: ほぼ毎日 | J10: □ | K10: ハローワーク求職活動 | M10: □ | N10: その他 | S10: ○
B12: ４ 病名・症状等について
B13: 病名等 | F13: 発症時期 | H13: 症状等 | L13: 入院歴
B14: 1
B15: 2
B16: 3
B18: ５ その他、特記事項（本人の希望、状態、就労経験、全体像、サービス利用状況等について）
B32: ６ 相談事業所及び区の担当者の意見

Sheet 補足資料記入例
B2: 取扱注意 訓練等給付の利用更新個別審査票（補足資料）
B4: ※ | C4: 更新に係る提出書類確認 | G4: ○ | H4: 個別支援計画 | J4: ○ | K4: 利用期間更新に係る個別支援計画 | M4: ○ | N4: その他資料 | S4: ○
B6: １ 認定を受けている障害等級等 | G6: ２ 支援の実績（通所） | J6: （支援内容） | M6: （就労移行利用状況）
B7: 身体障害者等級 | G7: □ | H7: 週１日以下 | J7: □ | K7: 企業見学及び訪問 | M7: □ | N7: 初回
B8: 種類 | G8: □ | H8: 週１日～２日 | J8: □ | K8: 企業実習・委託訓練等 | M8: □ | N8: ２回目[離職･その他]
B9: 愛の手帳 | G9: □ | H9: 週３日～４日 | J9: □ | K9: 面接会または面接 | M9: □ | N9: ３回目[離職･その他] | S9: ■
B10: 精神障害者保健福祉手帳等級 | E10: ２級 | G10: □ | H10: ほぼ毎日 | J10: □ | K10: ハローワーク求職活動 | M10: □ | N10: その他 | S10: □
B12: ４ 病名・症状等について
B13: 病名等 | F13: 発症時期 | H13: 症状等 | L13: 入院歴
B14: 1
B15: 2
B16: 3
B18: ５ その他、特記事項（本人の希望、状態、就労経験、全体像、サービス利用状況等について）
B32: ６ 相談事業所及び区担当者の意見

Sheet Sheet1
